BEGIN:VCALENDAR
VERSION:2.0
PRODID:-//ChamberMaster//Event Calendar 2.0//EN
METHOD:PUBLISH
X-PUBLISHED-TTL:P3D
REFRESH-INTERVAL:P3D
CALSCALE:GREGORIAN
BEGIN:VEVENT
DTSTART:20241116T160000Z
DTEND:20241116T210000Z
X-MICROSOFT-CDO-ALLDAYEVENT:FALSE
SUMMARY:Winter Wonderland
DESCRIPTION:Palatine Township Senior Center's Winter Wonderland. Walk into our Winter Wonderland full of cookies\, gift baskets\, handmade items\, and gifts galore! There will be something for everyone on your list.
X-ALT-DESC;FMTTYPE=text/html:<span style="font-size:16px\;">Palatine Township Senior Center&rsquo\;s Winter Wonderland.&nbsp\;<span style="color: rgb(68\, 68\, 68)\; font-family: Montserrat\, sans-serif\; background-color: rgb(255\, 255\, 255)\;">Walk into our Winter Wonderland full of cookies\, gift baskets\, handmade items\, and gifts galore! There will be something for everyone on your list.</span></span>
LOCATION:505 S Quentin Rd Palatine\, IL 60067
UID:e.1200.13715
SEQUENCE:3
DTSTAMP:20260424T031842Z
URL:https://business.palatinechamber.com/events/details/winter-wonderland-13715
END:VEVENT

END:VCALENDAR
