BEGIN:VCALENDAR
VERSION:2.0
PRODID:-//ChamberMaster//Event Calendar 2.0//EN
METHOD:PUBLISH
X-PUBLISHED-TTL:P3D
REFRESH-INTERVAL:P3D
CALSCALE:GREGORIAN
BEGIN:VEVENT
DTSTART:20241115T160000Z
DTEND:20241115T180000Z
X-MICROSOFT-CDO-ALLDAYEVENT:FALSE
SUMMARY:Winter Wonderland
DESCRIPTION:Palatine Township Senior Center's Winter Wonderland.\n\nWalk into our Winter Wonderland full of cookies\, gift baskets\, handmade items\, and gifts galore! There will be something for everyone on your list.
X-ALT-DESC;FMTTYPE=text/html:Palatine Township Senior Center&#39\;s Winter Wonderland.<br />\nWalk into our Winter Wonderland full of cookies\, gift baskets\, handmade items\, and gifts galore! There will be something for everyone on your list.
LOCATION:505 S Quentin Rd Palatine\, IL 60067
UID:e.1200.13714
SEQUENCE:3
DTSTAMP:20260424T044526Z
URL:https://business.palatinechamber.com/events/details/winter-wonderland-13714
END:VEVENT

END:VCALENDAR
