BEGIN:VCALENDAR
VERSION:2.0
PRODID:-//ChamberMaster//Event Calendar 2.0//EN
METHOD:PUBLISH
X-PUBLISHED-TTL:P3D
REFRESH-INTERVAL:P3D
CALSCALE:GREGORIAN
BEGIN:VEVENT
DTSTART:20240919T210000Z
DTEND:20240919T230000Z
X-MICROSOFT-CDO-ALLDAYEVENT:FALSE
SUMMARY:White Rabbit Kids Club Ribbon Cutting
DESCRIPTION:Join us in welcoming the White Rabbit Kids Club to Palatine with their Ribbon Cutting
X-ALT-DESC;FMTTYPE=text/html:Join us in welcoming the White Rabbit Kids Club to Palatine with their Ribbon Cutting&nbsp\;&nbsp\;&nbsp\;&nbsp\;&nbsp\;&nbsp\;&nbsp\;&nbsp\;&nbsp\;&nbsp\;&nbsp\;&nbsp\;
LOCATION:1108 West Northwest Highway Palatine\, IL 60067
UID:e.1200.13661
SEQUENCE:3
DTSTAMP:20260424T045603Z
URL:https://business.palatinechamber.com/events/details/white-rabbit-kids-club-ribbon-cutting-13661
END:VEVENT

END:VCALENDAR
