BEGIN:VCALENDAR
VERSION:2.0
PRODID:-//ChamberMaster//Event Calendar 2.0//EN
METHOD:PUBLISH
X-PUBLISHED-TTL:P3D
REFRESH-INTERVAL:P3D
CALSCALE:GREGORIAN
BEGIN:VEVENT
DTSTART:20220810T150000Z
DTEND:20220810T160000Z
X-MICROSOFT-CDO-ALLDAYEVENT:FALSE
SUMMARY:Understanding the World of Dementia
DESCRIPTION:This presentation is for those who want to learn how or why dementia occurs and what changes occur in the brain of a person living with dementia. Chris will go over how we can help someone live the best life possible as they navigate the road of dementia.
X-ALT-DESC;FMTTYPE=text/html:This presentation is for those who want to learn how or why dementia occurs and what changes occur in the brain of a person living with dementia. Chris will go over how we can help someone live the best life possible as they navigate the road of dementia.
LOCATION:Zoom
UID:e.1200.12519
SEQUENCE:3
DTSTAMP:20260420T135231Z
URL:https://business.palatinechamber.com/events/details/understanding-the-world-of-dementia-12519
END:VEVENT

END:VCALENDAR
