BEGIN:VCALENDAR
VERSION:2.0
PRODID:-//ChamberMaster//Event Calendar 2.0//EN
METHOD:PUBLISH
X-PUBLISHED-TTL:P3D
REFRESH-INTERVAL:P3D
CALSCALE:GREGORIAN
BEGIN:VEVENT
DTSTART;VALUE=DATE:20240802
DTEND;VALUE=DATE:20240803
TRANSP:TRANSPARENT
X-MICROSOFT-CDO-ALLDAYEVENT:TRUE
SUMMARY:Turtle Trek Race and Raffle
DESCRIPTION:Don't miss our annual Turtle Trek Race and Raffle! If you adopt a turtle\, you will have a chance to win great prizes as our fleet of plastic turtles will race in Donut Lake! The grand prize winner will receive $500! Don't worry if your turtle doesn't come in first place   we'll have over 40 other prizes you could win from our generous sponsors! Just $5/turtle or $20/5 turtles!
X-ALT-DESC;FMTTYPE=text/html:<span style="color:rgb(0\, 0\, 0)\; font-family:open-sans\,open sans\,helvetica\,arial\,sans-serif\; font-size:18px">Don&rsquo\;t miss our annual Turtle Trek Race and Raffle! If you adopt a turtle\, you will have a chance to win great prizes as&nbsp\;</span><span style="color:rgb(0\, 0\, 0)\; font-family:open-sans\,open sans\,helvetica\,arial\,sans-serif\; font-size:18px">our fleet of plastic turtles will race in Donut Lake! The grand prize winner will receive $500! Don&rsquo\;t worry if your turtle&nbsp\;</span><span style="color:rgb(0\, 0\, 0)\; font-family:open-sans\,open sans\,helvetica\,arial\,sans-serif\; font-size:18px">doesn&rsquo\;t come in first place &ndash\; we&rsquo\;ll have over 40 other prizes you could win from our generous sponsors! Just $5/turtle or $20/5 turtles!&nbsp\;</span>
LOCATION:Twin Lakes Recreational Area\, 1200 E. Twin Lakes Drive\, Palatine\, IL 60074
UID:e.1200.13488
SEQUENCE:3
DTSTAMP:20260421T000237Z
URL:https://business.palatinechamber.com/events/details/turtle-trek-race-and-raffle-13488
END:VEVENT

END:VCALENDAR
