BEGIN:VCALENDAR
VERSION:2.0
PRODID:-//ChamberMaster//Event Calendar 2.0//EN
METHOD:PUBLISH
X-PUBLISHED-TTL:P3D
REFRESH-INTERVAL:P3D
CALSCALE:GREGORIAN
BEGIN:VEVENT
DTSTART:20220815T153000Z
DTEND:20220815T230000Z
X-MICROSOFT-CDO-ALLDAYEVENT:FALSE
SUMMARY:The Bridge Golf and Bunco Fore Youth Classic
DESCRIPTION:The Bridge Youth & Family Services Presents\n\nGolf & Bunco Fore Youth Classic Fundraiser\n\nPlease join us for a mission focused day of golf\, Bunco\, and a cocktail dinner reception!\n\nAugust 15\, 2022\n\nShotgun Start at Noon\n\nRegistration open at 10:30\n\nThe Bridge will be following all state and local COVID-19 guidelines at the time of the event.\n\nWe recommend each guest takes their personal safety seriously\;\n\nplease stay home if you are sick and be safe before and after the event.
X-ALT-DESC;FMTTYPE=text/html:<p style="text-align:center"><em><span style="font-family:arial\,helvetica\,sans-serif\; font-size:24pt">The Bridge Youth &amp\; Family Services Presents</span></em></p>\n\n<p style="text-align:center"><span style="font-size:20px"><strong><span style="color:rgb(0\, 75\, 142)\; font-family:arial\,helvetica\,sans-serif">Golf &amp\; Bunco Fore Youth Classic Fundraiser</span></strong></span></p>\n\n<p style="text-align:center"><span style="font-family:arial\,helvetica\,sans-serif\; font-size:14pt">Please join us for a mission focused day of golf\, Bunco\, and a cocktail dinner reception!</span></p>\n\n<p style="text-align:center"><span style="color:rgb(0\, 128\, 0)"><em><span style="font-family:arial\,helvetica\,sans-serif\; font-size:14pt">August 15\, 2022<br />\nShotgun Start at Noon<br />\nRegistration open at 10:30</span></em></span></p>\n\n<p style="text-align:center"><span style="font-family:arial black\,sans-serif">The Bridge will be following all state and local COVID-19 guidelines at the time of the event.</span></p>\n\n<p style="text-align:center"><span style="font-family:arial black\,sans-serif">We recommend each guest takes their personal safety seriously\;<br />\nplease stay home if you are sick and be safe before and after the event.</span><br />\n<br />\n&nbsp\;</p>\n
LOCATION:Inverness Golf Club 102 Roselle Road Inverness\, IL 60067
UID:e.1200.12522
SEQUENCE:3
DTSTAMP:20260420T135137Z
URL:https://business.palatinechamber.com/events/details/the-bridge-golf-and-bunco-fore-youth-classic-12522
END:VEVENT

END:VCALENDAR
