BEGIN:VCALENDAR
VERSION:2.0
PRODID:-//ChamberMaster//Event Calendar 2.0//EN
METHOD:PUBLISH
X-PUBLISHED-TTL:P3D
REFRESH-INTERVAL:P3D
CALSCALE:GREGORIAN
BEGIN:VEVENT
DTSTART:20220803T000000Z
DTEND:20220803T030000Z
X-MICROSOFT-CDO-ALLDAYEVENT:FALSE
SUMMARY:Teen / Adult Female Self Defense Seminar
DESCRIPTION:Practial and effective self defense techniques\n	Learn about where\, how and what to strike attack areas of the body\n	How to escape from chokes and holds\, how best to defend yourself\n	Awareness\, avoidance\, common sense information\n	Information on pepper spray\, date rate drugs\, personal alarms
X-ALT-DESC;FMTTYPE=text/html:<ul>\n	<li>Practial and effective self defense techniques</li>\n	<li>Learn about where\, how and what to strike attack areas of the body</li>\n	<li>How to escape from chokes and holds\, how best to defend yourself</li>\n	<li>Awareness\, avoidance\, common sense information</li>\n	<li>Information on pepper spray\, date rate drugs\, personal alarms</li>\n</ul>\n
LOCATION:249 E. Northwest Hwy\, Palatine\, IL 60067
UID:e.1200.13058
SEQUENCE:3
DTSTAMP:20260420T135423Z
URL:https://business.palatinechamber.com/events/details/teen-adult-female-self-defense-seminar-08-02-2022-13058
END:VEVENT

END:VCALENDAR
