BEGIN:VCALENDAR
VERSION:2.0
PRODID:-//ChamberMaster//Event Calendar 2.0//EN
METHOD:PUBLISH
X-PUBLISHED-TTL:P3D
REFRESH-INTERVAL:P3D
CALSCALE:GREGORIAN
BEGIN:VEVENT
DTSTART:20241027T193000Z
DTEND:20241027T233000Z
X-MICROSOFT-CDO-ALLDAYEVENT:FALSE
SUMMARY:Tailgate for Tails-Second City Canine Rescue Event
DESCRIPTION:Tailgate for Tails\n\nEvent to support Second City Canine Rescue
X-ALT-DESC;FMTTYPE=text/html:Tailgate for Tails<br />\nEvent to support Second City Canine Rescue
LOCATION:180 N. Smith St. Palatine\, IL.
UID:e.1200.13689
SEQUENCE:3
DTSTAMP:20260424T032017Z
URL:https://business.palatinechamber.com/events/details/tailgate-for-tails-second-city-canine-rescue-event-13689
END:VEVENT

END:VCALENDAR
