BEGIN:VCALENDAR
VERSION:2.0
PRODID:-//ChamberMaster//Event Calendar 2.0//EN
METHOD:PUBLISH
X-PUBLISHED-TTL:P3D
REFRESH-INTERVAL:P3D
CALSCALE:GREGORIAN
BEGIN:VEVENT
DTSTART:20260508T170000Z
DTEND:20260508T174500Z
X-MICROSOFT-CDO-ALLDAYEVENT:FALSE
SUMMARY:Sparrow's Nest Furniture Room Ribbon Cutting!
DESCRIPTION:The Palatine Sparrow's Nest Furniture Showroom invites the community to a Ribbon Cutting Ceremony celebrating the successful launch of its Palatine location. The event will take place on Friday\, May 8th\, from 12:00 PM to 12:45 PM\, at 275 E Northwest Hwy\, Palatine\, IL 60067.\n\nIn partnership with the Palatine Chamber of Commerce\, this event commemorates the showroom's strong start and ongoing commitment to the community. Guests are invited to tour the showroom\, meet the team\, and enjoy light refreshments\, including chips\, cookies\, and water.\n\nThe Sparrow's Nest looks forward to celebrating this milestone alongside community members\, partners\, and supporters.
X-ALT-DESC;FMTTYPE=text/html:<p>The&nbsp\;Palatine Sparrow&rsquo\;s Nest Furniture Showroom&nbsp\;invites the community to a&nbsp\;Ribbon Cutting Ceremony&nbsp\;celebrating the successful launch of its Palatine location. The event will take place on&nbsp\;Friday\, May 8th\, from 12:00 PM to 12:45 PM\, at&nbsp\;275 E Northwest Hwy\, Palatine\, IL 60067.</p>\n\n<p>In partnership with the&nbsp\;Palatine Chamber of Commerce\, this event commemorates the showroom&rsquo\;s strong start and ongoing commitment to the community. Guests are invited to tour the showroom\, meet the team\, and enjoy light refreshments\, including chips\, cookies\, and water.</p>\n\n<p>The Sparrow&rsquo\;s Nest looks forward to celebrating this milestone alongside community members\, partners\, and supporters.</p>\n
LOCATION:275 E Northwest Hwy\, Palatine\, IL 60067
UID:e.1200.14414
SEQUENCE:3
DTSTAMP:20260422T230217Z
URL:https://business.palatinechamber.com/events/details/sparrow-s-nest-furniture-room-ribbon-cutting-14414
END:VEVENT

END:VCALENDAR
