BEGIN:VCALENDAR
VERSION:2.0
PRODID:-//ChamberMaster//Event Calendar 2.0//EN
METHOD:PUBLISH
X-PUBLISHED-TTL:P3D
REFRESH-INTERVAL:P3D
CALSCALE:GREGORIAN
BEGIN:VEVENT
DTSTART:20240914T140000Z
DTEND:20240914T180000Z
X-MICROSOFT-CDO-ALLDAYEVENT:FALSE
SUMMARY:Salt Creek Park District - Obstacle Course Challenge
DESCRIPTION:This 1 mile course will take your adventurous child on a fun adventure along the perimeter of the Twin Lakes Golf Course where kids will enjoy many obstacles that will challenge their physical ability and determination. All participants will receive a t-shit and goodie bag. All groups are co-ed except 7-8 and 9-11 age groups. Race will run rain or shine.
X-ALT-DESC;FMTTYPE=text/html:This 1 mile course will take your adventurous child on a fun adventure along the perimeter of the Twin Lakes Golf Course where kids will enjoy many obstacles that will challenge their physical ability and determination. All participants will receive a t-shit and goodie bag. All groups are co-ed except 7-8 and 9-11 age groups. Race will run rain or shine.&nbsp\;
LOCATION:Twin Lakes Golf Course 1200 East Twin Lakes Drive Palatine\, IL 60067
UID:e.1200.13669
SEQUENCE:3
DTSTAMP:20260424T044413Z
URL:https://business.palatinechamber.com/events/details/salt-creek-park-district-obstacle-course-challenge-13669
END:VEVENT

END:VCALENDAR
