BEGIN:VCALENDAR
VERSION:2.0
PRODID:-//ChamberMaster//Event Calendar 2.0//EN
METHOD:PUBLISH
X-PUBLISHED-TTL:P3D
REFRESH-INTERVAL:P3D
CALSCALE:GREGORIAN
BEGIN:VEVENT
DTSTART:20240920T220000Z
DTEND:20240922T230000Z
X-MICROSOFT-CDO-ALLDAYEVENT:FALSE
SUMMARY:Rotary Club of Palatine Presents Oktoberfest
DESCRIPTION:The Rotary Club of Palatine Foundation is excited to announce our 16th annual Oktoberfest celebration. Over the years\, our 3-day festival has become a signature event for Palatine and the northwest suburban community. The event attracts thousands of people from the greater Chicagoland area. This year's event will be held September 20th-22nd in the commuter parking lot (same as prior years) just north of Towne Square\, at the intersection of Slade Street and Smith Street in Palatine.\n\n\n\n\nSince 2008\, the Rotary Club of Palatine Foundation has raised over $1 million through our Oktoberfest event. As part of our annual allocation process\, we have provided financial contributions to dozens of local charities. Recipients of this support include charities such as: Journeys the Road Home\, Bridge Youth and Family Services\, Shelter Inc.\, Special Leisure Services Foundation\, Partners for Our Communities\, American Cancer Society\, Clearbrook\, Family Forward\, St. Joseph Home for the Elderly\, Ray Mills Fund\, Palatine Senior Center\, and many more.\n\nhttps://www.palatinerotary.com/Oktoberfest.php
X-ALT-DESC;FMTTYPE=text/html:<div style="background:rgb(250\, 250\, 250)\; border:0px\; padding:0px">\n<div style="background:transparent\; border:0px\; padding:0px">The Rotary Club of Palatine Foundation is excited to announce our 16th annual Oktoberfest celebration. Over the years\, our 3-day festival has become a signature event for Palatine and the northwest suburban community. The event attracts thousands of people from the greater Chicagoland area. This year&rsquo\;s event will be held September 20th-22nd in the commuter parking lot (same as prior years) just north of Towne Square\, at the intersection of Slade Street and Smith Street in Palatine.</div>\n</div>\n\n<div style="background:rgb(250\, 250\, 250)\; border:0px\; padding:0px"><br />\nSince 2008\, the Rotary Club of Palatine Foundation has raised over $1 million through our Oktoberfest event. As part of our annual allocation process\, we have provided financial contributions to dozens of local charities. Recipients of this support include charities such as: Journeys the Road Home\, Bridge Youth and Family Services\, Shelter Inc.\, Special Leisure Services Foundation\, Partners for Our Communities\, American Cancer Society\, Clearbrook\, Family Forward\, St. Joseph Home for the Elderly\, Ray Mills Fund\, Palatine Senior Center\, and many more.<br />\n<a href="https://www.palatinerotary.com/Oktoberfest.php">https://www.palatinerotary.com/Oktoberfest.php</a></div>\n
LOCATION:Smith Road and Slade Street\, Palatine
UID:e.1200.13664
SEQUENCE:3
DTSTAMP:20260424T033717Z
URL:https://business.palatinechamber.com/events/details/rotary-club-of-palatine-presents-oktoberfest-09-20-2024-13664
END:VEVENT

END:VCALENDAR
