BEGIN:VCALENDAR
VERSION:2.0
PRODID:-//ChamberMaster//Event Calendar 2.0//EN
METHOD:PUBLISH
X-PUBLISHED-TTL:P3D
REFRESH-INTERVAL:P3D
CALSCALE:GREGORIAN
BEGIN:VEVENT
DTSTART;VALUE=DATE:20241231
DTEND;VALUE=DATE:20250101
TRANSP:TRANSPARENT
X-MICROSOFT-CDO-ALLDAYEVENT:TRUE
SUMMARY:RAMP Young Professionals Group Fee - 2024
DESCRIPTION:2024 yearly fee for joining RAMP Young Professionals networking group.
X-ALT-DESC;FMTTYPE=text/html:2024 yearly fee for joining RAMP Young Professionals networking group.&nbsp\;
LOCATION:
UID:e.1200.13444
SEQUENCE:3
DTSTAMP:20260424T044459Z
URL:https://business.palatinechamber.com/events/details/ramp-young-professionals-group-fee-2024-13444
END:VEVENT

END:VCALENDAR
