BEGIN:VCALENDAR
VERSION:2.0
PRODID:-//ChamberMaster//Event Calendar 2.0//EN
METHOD:PUBLISH
X-PUBLISHED-TTL:P3D
REFRESH-INTERVAL:P3D
CALSCALE:GREGORIAN
BEGIN:VEVENT
DTSTART:20240807T163000Z
DTEND:20240807T173000Z
X-MICROSOFT-CDO-ALLDAYEVENT:FALSE
SUMMARY:RAMP - Business Best Practice and Leadership Seminar
DESCRIPTION:Health of Your Business - Your Clients Are Out There\n\nFeaturing James Bertucci
X-ALT-DESC;FMTTYPE=text/html:Health of Your Business - Your Clients Are Out There<br />\nFeaturing James Bertucci
LOCATION:Zoom/Video Meets
UID:e.1200.13644
SEQUENCE:3
DTSTAMP:20260421T000524Z
URL:https://business.palatinechamber.com/events/details/ramp-business-best-practice-and-leadership-seminar-13644
END:VEVENT

END:VCALENDAR
