BEGIN:VCALENDAR
VERSION:2.0
PRODID:-//ChamberMaster//Event Calendar 2.0//EN
METHOD:PUBLISH
X-PUBLISHED-TTL:P3D
REFRESH-INTERVAL:P3D
CALSCALE:GREGORIAN
BEGIN:VEVENT
DTSTART:20240330T160000Z
DTEND:20240330T180000Z
X-MICROSOFT-CDO-ALLDAYEVENT:FALSE
SUMMARY:Palatine Jaycees Easter Egg Hunt
DESCRIPTION:The Palatine Jaycees are hosting a FREE Easter Egg Hunt for the community. Join us Saturday\, March 30th\, 2024 from 11am-1pm at the Falcon Park Recreation Center outdoor field.\n\nThe Egg Hunt is open to children ages 0-9. Egg Hunts will occur approximately every 20 minutes. We will also have arts and crafts\, music\, and photo opportunities with the Easter Bunny!\n\nPreregistration will close on March 20th at noon.\n\n***Please note preregistration is recommended but not necessary***\n\nPreregistration is listed below\n\nhttps://docs.google.com/.../1FAIpQLSfab2BCP2Sa8K.../viewform
X-ALT-DESC;FMTTYPE=text/html:<div>The Palatine Jaycees are hosting a FREE Easter Egg Hunt for the community. Join us Saturday\, March 30th\, 2024 from 11am-1pm at the Falcon Park Recreation Center outdoor field.</div>\n\n<div>The Egg Hunt is open to children ages 0-9. Egg Hunts will occur approximately every 20 minutes. We will also have arts and crafts\, music\, and photo opportunities with the Easter Bunny!</div>\n\n<div>Preregistration will close on March 20th at noon.</div>\n\n<div>***Please note preregistration is recommended but not necessary***</div>\n\n<div>Preregistration is listed below</div>\n\n<div><a class="x1i10hfl xjbqb8w x1ejq31n xd10rxx x1sy0etr x17r0tee x972fbf xcfux6l x1qhh985 xm0m39n x9f619 x1ypdohk xt0psk2 xe8uvvx xdj266r x11i5rnm xat24cr x1mh8g0r xexx8yu x4uap5 x18d9i69 xkhd6sd x16tdsg8 x1hl2dhg xggy1nq x1a2a7pz xt0b8zv x1fey0fg" href="https://docs.google.com/forms/d/e/1FAIpQLSfab2BCP2Sa8KWHh6I9T5qO5TEu_74dydROxutqWBQ-TJBzuw/viewform?fbclid=IwAR2qrV1SUUHM76XEWWzVvuOSSTkqZwfRAZOp4Uh3kz8oR_MVfS2W3B0b9Os" rel="nofollow noreferrer" style="color: var(--blue-link)\; cursor: pointer\; text-decoration-line: none\; outline: none\; list-style: none\; margin: 0px\; text-align: inherit\; border-style: none\; padding: 0px\; border-width: 0px\; box-sizing: border-box\; background-color: transparent\; display: inline\; -webkit-tap-highlight-color: transparent\; touch-action: manipulation\; font-family: inherit\;" tabindex="0" target="_blank">https://docs.google.com/.../1FAIpQLSfab2BCP2Sa8K.../viewform</a></div>\n
LOCATION:Falcon Park Recreation Center outdoor field.
UID:e.1200.13456
SEQUENCE:3
DTSTAMP:20260423T082729Z
URL:https://business.palatinechamber.com/events/details/palatine-jaycees-easter-egg-hunt-13456
END:VEVENT

END:VCALENDAR
