BEGIN:VCALENDAR
VERSION:2.0
PRODID:-//ChamberMaster//Event Calendar 2.0//EN
METHOD:PUBLISH
X-PUBLISHED-TTL:P3D
REFRESH-INTERVAL:P3D
CALSCALE:GREGORIAN
BEGIN:VEVENT
DTSTART:20251120T160000Z
DTEND:20251120T173000Z
X-MICROSOFT-CDO-ALLDAYEVENT:FALSE
SUMMARY:Memory Café at Lutheran Home
DESCRIPTION:Monthly Memory Caf  at Lutheran Home   Dementia Friendly Registered\n\nLutheran Home\, in partnership with Synergy HomeCare and JourneyCare Hospice\, invites individuals living with Alzheimer's or dementia and their care partners to join us for a monthly Memory Caf . Each gathering includes a themed activity\, light refreshments\, and supportive conversation in a welcoming\, stigma-free setting.\n\nThis program is part of our Dementia Friendly initiatives and is officially registered with the national Dementia Friendly network.\n\nFirst Gathering: Thursday\, November 20\, 2025   10:00 11:30 AM\n\nLocation: Lutheran Home\, Main Entrance   800 W Oakton St.\, Arlington Heights\n\nRSVP: (847) 754-3200\n\nOpen to the community. No cost to attend\, RSVP appreciated.
X-ALT-DESC;FMTTYPE=text/html:<p>Monthly Memory Caf&eacute\; at Lutheran Home &mdash\; Dementia Friendly Registered</p>\n\n<p>Lutheran Home\, in partnership with Synergy HomeCare and JourneyCare Hospice\, invites individuals living with Alzheimer&rsquo\;s or dementia and their care partners to join us for a monthly Memory Caf&eacute\;. Each gathering includes a themed activity\, light refreshments\, and supportive conversation in a welcoming\, stigma-free setting.</p>\n\n<p>This program is part of our Dementia Friendly initiatives and is officially registered with the national Dementia Friendly network.</p>\n\n<p>First Gathering:&nbsp\;Thursday\, November 20\, 2025 &bull\; 10:00&ndash\;11:30 AM<br />\nLocation:&nbsp\;Lutheran Home\, Main Entrance &mdash\; 800 W Oakton St.\, Arlington Heights<br />\nRSVP:&nbsp\;(847) 754-3200</p>\n\n<p>Open to the community. No cost to attend\, RSVP appreciated.</p>\n
LOCATION:Lutheran Home 800 W Oakton St. Arlington Heights\, IL 60004
UID:e.1200.14226
SEQUENCE:3
DTSTAMP:20260424T055037Z
URL:https://business.palatinechamber.com/events/details/memory-caf&#233;-at-lutheran-home-14226
END:VEVENT

END:VCALENDAR
