BEGIN:VCALENDAR
VERSION:2.0
PRODID:-//ChamberMaster//Event Calendar 2.0//EN
METHOD:PUBLISH
X-PUBLISHED-TTL:P3D
REFRESH-INTERVAL:P3D
CALSCALE:GREGORIAN
BEGIN:VEVENT
DTSTART:20260326T150000Z
DTEND:20260326T163000Z
X-MICROSOFT-CDO-ALLDAYEVENT:FALSE
SUMMARY:Memory Cafe – Light Refreshments and Meaningful Moments
DESCRIPTION:Join us four our monthly Memory Cafe at Lutheran Home!\n\n4th Thursday Monthly From 10AM - 11:30 AM\n\nMarch 26 - Bouquet Making \n\nApril 23 - Painting Terracotta Pots & Planting \n\nMay 28 - Tea Party\n\nWhat is a Memory Cafe?\n\nA Memory Caf  is a welcoming\, supportive gathering designed for individuals living with memory loss\, Alzheimer's disease\, or other forms of dementia along with their caregivers\, family members\, and loved ones. It provides a safe\, relaxed environment where participants can socialize\, enjoy meaningful activities\, and build community without stigma or pressure.\n\nMemory Caf s typically include light refreshments\, engaging activities (such as music\, crafts\, games\, or educational discussions)\, and opportunities for connection. The focus is on joy\, dignity\, and fostering a sense of belonging for everyone involved.\n\nOur Memory Caf s incorporate principles from the Dementia Friendly America initiative\, which promotes dementia-friendly communities. Being dementia-friendly means creating spaces that are inclusive\, respectful\, and supportive of individuals living with cognitive changes. This includes trained staff\, clear communication\, welcoming environments\, and an understanding approach that empowers individuals to remain engaged and valued members of the community.\n\nTogether\, Memory Caf s and dementia-friendly practices help reduce isolation\, provide caregiver support\, and promote understanding within the broader community.
X-ALT-DESC;FMTTYPE=text/html:<p>Join us four our monthly Memory Cafe at Lutheran Home!</p>\n\n<p><strong>4th Thursday Monthly From 10AM - 11:30 AM</strong></p>\n\n<p><strong>March 26 - Bouquet Making</strong><strong> </strong></p>\n\n<p><strong>April 23 - Painting Terracotta Pots &amp\; Planting</strong><strong> </strong></p>\n\n<p><strong>May 28 - Tea Party</strong></p>\n\n<p>What is a Memory Cafe?<br />\nA Memory Caf&eacute\; is a welcoming\, supportive gathering designed for individuals living with memory loss\, Alzheimer&rsquo\;s disease\, or other forms of dementia along with their caregivers\, family members\, and loved ones. It provides a safe\, relaxed environment where participants can socialize\, enjoy meaningful activities\, and build community without stigma or pressure.</p>\n\n<p>Memory Caf&eacute\;s typically include light refreshments\, engaging activities (such as music\, crafts\, games\, or educational discussions)\, and opportunities for connection. The focus is on joy\, dignity\, and fostering a sense of belonging for everyone involved.</p>\n\n<p>Our Memory Caf&eacute\;s incorporate principles from the Dementia Friendly America initiative\, which promotes dementia-friendly communities. Being dementia-friendly means creating spaces that are inclusive\, respectful\, and supportive of individuals living with cognitive changes. This includes trained staff\, clear communication\, welcoming environments\, and an understanding approach that empowers individuals to remain engaged and valued members of the community.</p>\n\n<p>Together\, Memory Caf&eacute\;s and dementia-friendly practices help reduce isolation\, provide caregiver support\, and promote understanding within the broader community.</p>\n
LOCATION:Lutheran Home 800 West Oakton St. Arlington Heights\, IL 60004
UID:e.1200.14404
SEQUENCE:3
DTSTAMP:20260423T225340Z
URL:https://business.palatinechamber.com/events/details/memory-cafe-light-refreshments-and-meaningful-moments-03-02-2026-14404
END:VEVENT

END:VCALENDAR
