BEGIN:VCALENDAR
VERSION:2.0
PRODID:-//ChamberMaster//Event Calendar 2.0//EN
METHOD:PUBLISH
X-PUBLISHED-TTL:P3D
REFRESH-INTERVAL:P3D
CALSCALE:GREGORIAN
BEGIN:VEVENT
DTSTART:20240913T230000Z
DTEND:20240914T040000Z
X-MICROSOFT-CDO-ALLDAYEVENT:FALSE
SUMMARY:Hopeful Beginnings Gala 2024
DESCRIPTION:Are you passionate about helping local families and children? Please attend our Gala on Friday\, September 13\, 2024 at The Metropolis Ballroom in Arlington Heights\, Hopeful Beginning's largest annual fundraiser\n\n \n\nWe hope to see you there!
X-ALT-DESC;FMTTYPE=text/html:<div>Are you passionate about helping local families and children? Please attend our Gala on Friday\, September 13\, 2024 at The Metropolis Ballroom in Arlington Heights\, Hopeful Beginning&#39\;s largest annual fundraiser</div>\n\n<div>&nbsp\;</div>\n\n<div>We hope to see you there!</div>\n
LOCATION:The Metropolis Ballroom 6 S Vail Ave\, Arlington Heights\, IL 60005
UID:e.1200.13647
SEQUENCE:3
DTSTAMP:20260424T045217Z
URL:https://business.palatinechamber.com/events/details/hopeful-beginnings-gala-2024-13647
END:VEVENT

END:VCALENDAR
