BEGIN:VCALENDAR
VERSION:2.0
PRODID:-//ChamberMaster//Event Calendar 2.0//EN
METHOD:PUBLISH
X-PUBLISHED-TTL:P3D
REFRESH-INTERVAL:P3D
CALSCALE:GREGORIAN
BEGIN:VEVENT
DTSTART:20241012T180000Z
DTEND:20241013T010000Z
X-MICROSOFT-CDO-ALLDAYEVENT:FALSE
SUMMARY:Home of the Sparrow's SPARK HOPE: Bonfire & Pig Roast
DESCRIPTION:Let's come together to spark change and help end homelessness in our community. Gather around the campfire\, enjoy delicious food and drinks\, and groove to great music. Join us for an unforgettable evening where we ignite hope and make a meaningful difference together!
X-ALT-DESC;FMTTYPE=text/html:<p>Let&#39\;s come together to spark change and help end homelessness in our community. Gather around the campfire\, enjoy delicious food and drinks\, and groove to great music. Join us for an unforgettable evening where we ignite hope and make a meaningful difference together!</p>\n
LOCATION:1801 N Quentin Rd Palatine
UID:e.1200.13665
SEQUENCE:3
DTSTAMP:20260424T032142Z
URL:https://business.palatinechamber.com/events/details/home-of-the-sparrow-s-spark-hope-bonfire-pig-roast-13665
END:VEVENT

END:VCALENDAR
