BEGIN:VCALENDAR
VERSION:2.0
PRODID:-//ChamberMaster//Event Calendar 2.0//EN
METHOD:PUBLISH
X-PUBLISHED-TTL:P3D
REFRESH-INTERVAL:P3D
CALSCALE:GREGORIAN
BEGIN:VEVENT
DTSTART;VALUE=DATE:20251115
DTEND;VALUE=DATE:20251116
TRANSP:TRANSPARENT
X-MICROSOFT-CDO-ALLDAYEVENT:TRUE
SUMMARY:Holiday Craft Fair
DESCRIPTION:Saturday\, November 15\, 9:00 am   2:00 pm.  Support local crafters and get all your holiday shopping done in one day! Shop over 50 vendors with knit items\, handmade jewelry\, photography\, holiday items\, paintings\, handmade beads\, woodcarvings\, home goods\, soaps\, lotions\, homemade honey and more! FREE ADMISSION AND RECEIVE A RAFFLE TICKET UPON ENTRY!\n\nLocation: Salt Creek Sports Center
X-ALT-DESC;FMTTYPE=text/html:<p>Saturday\, November 15\, 9:00 am &ndash\; 2:00 pm.&nbsp\;&nbsp\;Support local crafters and get all your holiday shopping done in one day! Shop over 50 vendors with knit items\, handmade jewelry\, photography\, holiday items\, paintings\, handmade beads\, woodcarvings\, home goods\, soaps\, lotions\, homemade honey and more!&nbsp\;FREE ADMISSION AND RECEIVE A RAFFLE TICKET UPON ENTRY!</p>\n\n<p>Location:&nbsp\;Salt Creek Sports Center</p>\n\n<p>&nbsp\;</p>\n
LOCATION:Salt Creek Sports Center\, 647 Consumers Ave.\, Palatine
UID:e.1200.14227
SEQUENCE:3
DTSTAMP:20260424T042326Z
URL:https://business.palatinechamber.com/events/details/holiday-craft-fair-11-15-2025-14227
END:VEVENT

END:VCALENDAR
