BEGIN:VCALENDAR
VERSION:2.0
PRODID:-//ChamberMaster//Event Calendar 2.0//EN
METHOD:PUBLISH
X-PUBLISHED-TTL:P3D
REFRESH-INTERVAL:P3D
CALSCALE:GREGORIAN
BEGIN:VEVENT
DTSTART:20240926T223000Z
DTEND:20240927T010000Z
X-MICROSOFT-CDO-ALLDAYEVENT:FALSE
SUMMARY:Girls Night Out - Palatine Township Senior Center
DESCRIPTION:Girls Night Out with Palatine Township Senior Center\n\nRaffles\, Food\, Drinks\, Entertainment and Fun Activites
X-ALT-DESC;FMTTYPE=text/html:Girls Night Out with Palatine Township Senior Center<br />\nRaffles\, Food\, Drinks\, Entertainment and Fun Activites&nbsp\;&nbsp\;&nbsp\;&nbsp\;
LOCATION:505 South Quentin Road Palatine\, IL 60067
UID:e.1200.13668
SEQUENCE:3
DTSTAMP:20260424T045048Z
URL:https://business.palatinechamber.com/events/details/girls-night-out-palatine-township-senior-center-13668
END:VEVENT

END:VCALENDAR
