BEGIN:VCALENDAR
VERSION:2.0
PRODID:-//ChamberMaster//Event Calendar 2.0//EN
METHOD:PUBLISH
X-PUBLISHED-TTL:P3D
REFRESH-INTERVAL:P3D
CALSCALE:GREGORIAN
BEGIN:VEVENT
DTSTART:20240814T133000Z
DTEND:20240814T203000Z
X-MICROSOFT-CDO-ALLDAYEVENT:FALSE
SUMMARY:Elderwerks Aging Better Expo
DESCRIPTION:The 10th Annual Aging Better Expo includes 12 educational programs\, fitness sessions and more. This fun and FREE event is designed for caregivers\, adult children\, older adults and seniors.
X-ALT-DESC;FMTTYPE=text/html:<span style="font-family:system-ui\,-apple-system\,blinkmacsystemfont\,helveticaneue\,helvetica neue\,helvetica\,roboto\,segoe ui\,arial\,sans-serif\; font-size:15px">The 10th Annual Aging Better Expo includes 12 educational programs\, fitness sessions and more. This fun and FREE event is designed for caregivers\, adult children\, older adults and seniors.</span>
LOCATION:2401 W Higgins Rd Hoffman Estates\, IL 60169
UID:e.1200.13639
SEQUENCE:3
DTSTAMP:20260421T013513Z
URL:https://business.palatinechamber.com/events/details/elderwerks-aging-better-expo-08-14-2024-13639
END:VEVENT

END:VCALENDAR
