BEGIN:VCALENDAR
VERSION:2.0
PRODID:-//ChamberMaster//Event Calendar 2.0//EN
METHOD:PUBLISH
X-PUBLISHED-TTL:P3D
REFRESH-INTERVAL:P3D
CALSCALE:GREGORIAN
BEGIN:VEVENT
DTSTART:20260404T000000Z
DTEND:20260404T013000Z
X-MICROSOFT-CDO-ALLDAYEVENT:FALSE
SUMMARY:Adult Egg Hunt!
DESCRIPTION:New! Adult Egg Hunt Ages 21+\n\nNo one else has this event!  Step into the thrill of childhood nostalgia   with a grown-up twist! Adults grab your flashlights and head into the darkened field\, searching for hundreds of hidden eggs scattered across the grounds. Inside each egg are surprises ranging from candy and small novelties to raffle tickets for bigger prizes including snack items\, alcohol\, or themed baskets. The hunt is fast-paced\, competitive\, and full of laughter. Add a little more fun to your night by signing up for the inflatable costume category! Bring your own inflatable costume to wear as you run\, and search for eggs in the night! Cash bar opens at 7:00pm\, first hunt will begin at 8:00pm.
X-ALT-DESC;FMTTYPE=text/html:<h2><span style="color:rgb(255\, 0\, 0)">New!</span>&nbsp\;Adult Egg Hunt Ages 21+</h2>\n\n<p><strong>No one else has this event!&nbsp\;</strong> Step into the thrill of childhood nostalgia &mdash\; with a grown-up twist! Adults grab your flashlights and head into the darkened field\, searching for hundreds of hidden eggs scattered across the grounds. Inside each egg are surprises ranging from candy and small novelties to raffle tickets for bigger prizes including snack items\, alcohol\, or themed baskets. The hunt is fast-paced\, competitive\, and full of laughter. Add a little more fun to your night by signing up for the inflatable costume category! Bring your own inflatable costume to wear as you run\, and search for eggs in the night! Cash bar opens at 7:00pm\, first hunt will begin at 8:00pm.</p>\n\n<p>&nbsp\;</p>\n
LOCATION:Twin Lakes Recreation Area\, 1200 E. Twin Lakes Dr.\, Palatine\, IL 60074
UID:e.1200.14406
SEQUENCE:3
DTSTAMP:20260423T224639Z
URL:https://business.palatinechamber.com/events/details/adult-egg-hunt-14406
END:VEVENT

END:VCALENDAR
